BEGIN:VCALENDAR
VERSION:2.0
PRODID:icalendar-ruby
CALSCALE:GREGORIAN
METHOD:PUBLISH
BEGIN:VTIMEZONE
TZID:America/New_York
BEGIN:DAYLIGHT
DTSTART:20260308T030000
TZOFFSETFROM:-0500
TZOFFSETTO:-0400
RRULE:FREQ=YEARLY;BYDAY=2SU;BYMONTH=3
TZNAME:EDT
END:DAYLIGHT
BEGIN:STANDARD
DTSTART:20261101T010000
TZOFFSETFROM:-0400
TZOFFSETTO:-0500
RRULE:FREQ=YEARLY;BYDAY=1SU;BYMONTH=11
TZNAME:EST
END:STANDARD
END:VTIMEZONE
BEGIN:VEVENT
DTSTAMP:20260423T125048Z
UID:1d594139-36b7-4a84-b646-20895540bf66
DTSTART;TZID=America/New_York:20260517T080000
CLASS:PUBLIC
DESCRIPTION:Join us at Bill Frederick Park at Turkey Lake in Orlando for th
 e 2026 Get Your Rear in Gear - Orlando colon cancer 5K run/walk on Sunday\
 , May 17\, 2026. This event raises funds for the Colon Cancer Coalition.
SUMMARY:2026 Get Your Rear in Gear - Orlando
END:VEVENT
END:VCALENDAR
